BEGIN:VCALENDAR
VERSION:2.0
PRODID:-//Mairie d&#039;Aurillac - ECPv6.15.20//NONSGML v1.0//EN
CALSCALE:GREGORIAN
METHOD:PUBLISH
X-WR-CALNAME:Mairie d&#039;Aurillac
X-ORIGINAL-URL:https://www.aurillac.fr
X-WR-CALDESC:Évènements pour Mairie d&#039;Aurillac
REFRESH-INTERVAL;VALUE=DURATION:PT1H
X-Robots-Tag:noindex
X-PUBLISHED-TTL:PT1H
BEGIN:VTIMEZONE
TZID:Europe/Paris
BEGIN:DAYLIGHT
TZOFFSETFROM:+0100
TZOFFSETTO:+0200
TZNAME:CEST
DTSTART:20250330T010000
END:DAYLIGHT
BEGIN:STANDARD
TZOFFSETFROM:+0200
TZOFFSETTO:+0100
TZNAME:CET
DTSTART:20251026T010000
END:STANDARD
BEGIN:DAYLIGHT
TZOFFSETFROM:+0100
TZOFFSETTO:+0200
TZNAME:CEST
DTSTART:20260329T010000
END:DAYLIGHT
BEGIN:STANDARD
TZOFFSETFROM:+0200
TZOFFSETTO:+0100
TZNAME:CET
DTSTART:20261025T010000
END:STANDARD
BEGIN:DAYLIGHT
TZOFFSETFROM:+0100
TZOFFSETTO:+0200
TZNAME:CEST
DTSTART:20270328T010000
END:DAYLIGHT
BEGIN:STANDARD
TZOFFSETFROM:+0200
TZOFFSETTO:+0100
TZNAME:CET
DTSTART:20271031T010000
END:STANDARD
END:VTIMEZONE
BEGIN:VEVENT
DTSTART;VALUE=DATE:20260716
DTEND;VALUE=DATE:20260720
DTSTAMP:20260423T160744
CREATED:20260112T105251Z
LAST-MODIFIED:20260112T105251Z
UID:147245-1784160000-1784505599@www.aurillac.fr
SUMMARY:Festi Jump 2026
DESCRIPTION:Le Festi Jump\, ce sont des concerts et de la danse rock\, swing\, boogie…  \n\n\n\n\nDu 16 au 19 juillet\, l’évènement musical Festi’Jump animera les terrasses du centre-ville avec une programmation swing\, rock et boogie.\nComme chaque année\, le public est attendu nombreux pour découvrir de nouveaux groupes et danser au son de leurs rythmes endiablés. \n  \n> Page spéciale Festijump (prochainement) \n\n\n 
URL:https://www.aurillac.fr/agenda/festijump-2026/
CATEGORIES:Associations,centre-ville,Culture,Informations,loisirs
END:VEVENT
END:VCALENDAR