BEGIN:VCALENDAR
VERSION:2.0
PRODID:-//Mairie d&#039;Aurillac - ECPv6.15.20//NONSGML v1.0//EN
CALSCALE:GREGORIAN
METHOD:PUBLISH
X-ORIGINAL-URL:https://www.aurillac.fr
X-WR-CALDESC:Évènements pour Mairie d&#039;Aurillac
REFRESH-INTERVAL;VALUE=DURATION:PT1H
X-Robots-Tag:noindex
X-PUBLISHED-TTL:PT1H
BEGIN:VTIMEZONE
TZID:Europe/Paris
BEGIN:DAYLIGHT
TZOFFSETFROM:+0100
TZOFFSETTO:+0200
TZNAME:CEST
DTSTART:20250330T010000
END:DAYLIGHT
BEGIN:STANDARD
TZOFFSETFROM:+0200
TZOFFSETTO:+0100
TZNAME:CET
DTSTART:20251026T010000
END:STANDARD
BEGIN:DAYLIGHT
TZOFFSETFROM:+0100
TZOFFSETTO:+0200
TZNAME:CEST
DTSTART:20260329T010000
END:DAYLIGHT
BEGIN:STANDARD
TZOFFSETFROM:+0200
TZOFFSETTO:+0100
TZNAME:CET
DTSTART:20261025T010000
END:STANDARD
BEGIN:DAYLIGHT
TZOFFSETFROM:+0100
TZOFFSETTO:+0200
TZNAME:CEST
DTSTART:20270328T010000
END:DAYLIGHT
BEGIN:STANDARD
TZOFFSETFROM:+0200
TZOFFSETTO:+0100
TZNAME:CET
DTSTART:20271031T010000
END:STANDARD
END:VTIMEZONE
BEGIN:VEVENT
DTSTART;VALUE=DATE:20260213
DTEND;VALUE=DATE:20260514
DTSTAMP:20260423T163442
CREATED:20260130T173725Z
LAST-MODIFIED:20260130T173919Z
UID:148908-1770940800-1778716799@www.aurillac.fr
SUMMARY:EXPOSITION "MOSTRA" / du 13 février au 13 mai 2026
DESCRIPTION:LO VESTIT DEL PAÍS\, L’HABIT DU PAYS \nFonds photographiques Parry (Collections du Musée d’art et d’archéologie d’Aurillac) \n\n			\n				\n				\n				\n				\n				Les portraits réalisés par Léger Parry\, photographe à Aurillac (1856-1921)\, nous plongent dans l’histoire cantalienne\, à une époque où l’habit traduisait des appartenances sociales et culturelles tout en répondant à des nécessités pratiques. \nL’exposicion presenta dels òmes e de las femnas venus poser dans leurs vêtements de tous les jours\, souvent leurs plus belles tenues\, que l’on désigne aujourd’hui sous le nom de costume traditionnel. On y observe les éléments caractéristiques de la tenue auvergnate et leur évolution entre 1880 et 1920\, au gré des disparités locales et des mutations. \nAquel periòde voit également naître une image idéalisée de l’Auvergnat\, donnant lieu à des portraits en costume folklorique (ou régional). Inspirée par la réalité vestimentaire\, la tenue folklorique adaptée pour la fête et la mise en scène a contribué à façonner una memòria locala singulara. L’exposition vous invite à observer et à comprendre ces écarts subtils entre vêtements du quotidien et tenue de représentation. \n			\n				\n				\n				\n				\n				Horaires d’ouverture :\n– du lundi au vendredi9h à 13h / 14h-18h \n			\n				Plus d'infos sur l'expo
URL:https://www.aurillac.fr/agenda/exposition-mostra-022026/
CATEGORIES:Associations,Expositions - Rétrospectives,Informations
ATTACH;FMTTYPE=image/jpeg:https://www.aurillac.fr/wp-content/uploads/2026/01/expo-Lo-vestit-del-pais-2026.jpg
END:VEVENT
BEGIN:VEVENT
DTSTART;TZID=Europe/Paris:20260306T190000
DTEND;TZID=Europe/Paris:20260306T203000
DTSTAMP:20260423T163443
CREATED:20260130T150043Z
LAST-MODIFIED:20260302T171703Z
UID:148870-1772823600-1772829000@www.aurillac.fr
SUMMARY:Concert des Professeurs / Conservatoire Musique et Danse
DESCRIPTION:Pour la 5ème année\, un concert annuel rassemble les professeurs du conservatoire en tant qu’artistes. Ils vous proposent un programme alliant qualité et variété\, tout en restant accessible à tous. \nNous invitons particulièrement les élèves du conservatoire\, à venir assister au spectacle préparé à leur intention. Il peut être une vraie possibilité d’apprentissage et de découverte. \nParticipation libre au profit de \nl’Association des Parents d’Élèves du Conservatoire d’Aurillac \n> conservatoire.aurillac.fr
URL:https://www.aurillac.fr/agenda/cmda-06032026/
CATEGORIES:Concerts et Spectacles,Conservatoire de Musique et de Danse,Culture,Informations
ATTACH;FMTTYPE=image/jpeg:https://www.aurillac.fr/wp-content/uploads/2026/02/cmda-concert-profs.jpg
END:VEVENT
BEGIN:VEVENT
DTSTART;TZID=Europe/Paris:20260306T203000
DTEND;TZID=Europe/Paris:20260306T220000
DTSTAMP:20260423T163443
CREATED:20260127T141229Z
LAST-MODIFIED:20260223T131333Z
UID:148547-1772829000-1772834400@www.aurillac.fr
SUMMARY:Récital violon & harpe /  MUSIQUE CLASSIQUE au THÉÂTRE
DESCRIPTION:> Plus d’infos \n> Billetterie en ligne \n\n\n\n\n\n\n\n\n\n\n\nVen. 6 mars – 20h30 \n\n\n\n\n\nA Giou-de-Mamou\nSalle CREA \n\n\n\n\n\n\n\n\n\n\n\n\n\n\n\n\n\n\n\n\n\n\nIris Scialom et Alexandra Bidi \n\n\n\n\n\n\n\n\nConcert proposé par la Aurillac Agglomération organisé par le Théâtre d’Aurillac\net avec le soutien artistique de l’association Musica Formosa \n \n\n\n\n\nLe violon éclate en contrastes et en lumières sous l’archet d’une musicienne à la pureté de son tout simplement magique\, portée par une vélocité exceptionnelle !\nDe Debussy à Ravel\, en passant par la Fantaisie de Saint-Saëns qui sublime également toutes les facettes de la harpe\, ce programme traverse les pays et les époques dans une inspiration et une énergie saisissantes. En\npoint d’orgue\, L’Histoire du Tango de Piazzolla embrase la scène\, retraçant l’évolution de cette musique universelle dans une grande intensité émotionnelle. \n\n\n\n\n\n\n\nPROGRAMME\nBéla BARTÓK\, Six Danses Populaires Roumaines\nClaude DEBUSSY\, Beau soir\nMaurice RAVEL\, Pavane pour une infante défunte\nMaurice RAVEL\, Tzigane\nCamille SAINT-SAËNS\, Fantaisie opus 124\nAstor PIAZZOLLA\, L’Histoire du Tango \n\n\n\n\nAlexandra BIDI\, harpe\nIris SCIALoM\, violon (nommée révélation soliste instrumental aux victoires de la musique classique 2025)\n\n\n\n\n\n\nMUSIQUE CLASSIQUE \ndurée : 1h15\nTout public\nTarif B
URL:https://www.aurillac.fr/agenda/theatre-06032026/
CATEGORIES:Concerts et Spectacles,Culture,Informations,Théâtre
ATTACH;FMTTYPE=image/jpeg:https://www.aurillac.fr/wp-content/uploads/2026/01/recital-06032026.jpg
END:VEVENT
END:VCALENDAR