BEGIN:VCALENDAR
VERSION:2.0
PRODID:-//Mairie d&#039;Aurillac - ECPv6.15.20//NONSGML v1.0//EN
CALSCALE:GREGORIAN
METHOD:PUBLISH
X-ORIGINAL-URL:https://www.aurillac.fr
X-WR-CALDESC:Évènements pour Mairie d&#039;Aurillac
REFRESH-INTERVAL;VALUE=DURATION:PT1H
X-Robots-Tag:noindex
X-PUBLISHED-TTL:PT1H
BEGIN:VTIMEZONE
TZID:Europe/Paris
BEGIN:DAYLIGHT
TZOFFSETFROM:+0100
TZOFFSETTO:+0200
TZNAME:CEST
DTSTART:20250330T010000
END:DAYLIGHT
BEGIN:STANDARD
TZOFFSETFROM:+0200
TZOFFSETTO:+0100
TZNAME:CET
DTSTART:20251026T010000
END:STANDARD
BEGIN:DAYLIGHT
TZOFFSETFROM:+0100
TZOFFSETTO:+0200
TZNAME:CEST
DTSTART:20260329T010000
END:DAYLIGHT
BEGIN:STANDARD
TZOFFSETFROM:+0200
TZOFFSETTO:+0100
TZNAME:CET
DTSTART:20261025T010000
END:STANDARD
BEGIN:DAYLIGHT
TZOFFSETFROM:+0100
TZOFFSETTO:+0200
TZNAME:CEST
DTSTART:20270328T010000
END:DAYLIGHT
BEGIN:STANDARD
TZOFFSETFROM:+0200
TZOFFSETTO:+0100
TZNAME:CET
DTSTART:20271031T010000
END:STANDARD
END:VTIMEZONE
BEGIN:VEVENT
DTSTART;TZID=Europe/Paris:20260404T090000
DTEND;TZID=Europe/Paris:20260404T120000
DTSTAMP:20260423T221645
CREATED:20260320T105352Z
LAST-MODIFIED:20260320T105445Z
UID:156894-1775293200-1775304000@www.aurillac.fr
SUMMARY:Pâques s'invite au Marché Couvert d'Aurillac !
DESCRIPTION:🥚✨Le samedi 4 avril\, l’Amicale du Marché et la Ville d’Aurillac vous concoctent une matinée magique et gourmande. Venez fêter Pâques avec nous ! 🐣 \n👩‍🍳 Côté Papilles : Retrouvez Karine de « Mon reflet dans l’assiette » pour une dégustation d’oeufs surprenants (Salés : fritons-sésame / légumes raves-cajou | Sucrés : truffes chocolat surprise !). 🍫😋 \n🕵️‍♂️ Côté Fun : \n\nChasse au trésor : Un grand jeu de piste ludique à travers les étals du marché.\nTombola : Tentez de gagner un magnifique panier garni offert par l’Amicale ! 🧺\nAteliers créatifs : Coloriages\, gommettes et jeux en autonomie pour les petits artistes. 🎨\n\n📍 Rendez-vous devant l’espace cuisine du Marché Couvert ! 📅 Samedi 4 avril \n#Aurillac #Paques #MarcheCouvert #SortirAAurillac #Animation #Gourmandise #VivreAAurillac
URL:https://www.aurillac.fr/agenda/paques-marche-couvert-26/
CATEGORIES:Associations,centre-ville,Informations
ATTACH;FMTTYPE=image/jpeg:https://www.aurillac.fr/wp-content/uploads/2026/03/mc-Paques-2026.jpg
END:VEVENT
BEGIN:VEVENT
DTSTART;TZID=Europe/Paris:20260411T090000
DTEND;TZID=Europe/Paris:20260411T120000
DTSTAMP:20260423T221645
CREATED:20260409T073822Z
LAST-MODIFIED:20260409T154206Z
UID:157734-1775898000-1775908800@www.aurillac.fr
SUMMARY:Atelier Créatif Spécial Vacances de Pâques / Marché Couvert
DESCRIPTION:Dans le cadre des vacances de printemps\, l’amicale du marché propose un atelier créatif ce samedi 11 avril. L’événement se tiendra à l’entrée du marché de 9h à midi.\nCette animation\, animée par Cathy\, est entièrement gratuite et accessible à tous les visiteurs. \nVenez nombreux profiter de cette parenthèse conviviale !
URL:https://www.aurillac.fr/agenda/atelier-marche-11042026/
CATEGORIES:Associations,centre-ville,Informations,Marchés
ATTACH;FMTTYPE=image/jpeg:https://www.aurillac.fr/wp-content/uploads/2026/04/mc-atelier-11042026.jpg
END:VEVENT
BEGIN:VEVENT
DTSTART;VALUE=DATE:20260412
DTEND;VALUE=DATE:20260413
DTSTAMP:20260423T221645
CREATED:20260330T092826Z
LAST-MODIFIED:20260410T134611Z
UID:102111-1775952000-1776038399@www.aurillac.fr
SUMMARY:Foire de Printemps
DESCRIPTION:La ville d’Aurillac organise plusieurs foires thématiques tout au long de l’année 2026. Ces événements se déroulent sur le parking du Gravier.\nNavette bus gratuite desservant les quartiers\, circuits et horaires détaillés\n\n\n\nProchaines foires : \n\n\n\n\nFoire de la St Urbain : Dimanche 31 mai.\nFoire de la St Géraud : Dimanche 11 octobre.\nFoire de la St Martin : Dimanche 8 novembre.\nFoire de la Ste Luce : Dimanche 6 décembre.\n\n\n\n\nRenseignements complémentaires auprès du service Commerce de la Ville d’Aurillac au 04 71 45 46 32
URL:https://www.aurillac.fr/agenda/foire-de-printemps/
CATEGORIES:centre-ville,Foires et salons,Informations
ATTACH;FMTTYPE=image/jpeg:https://www.aurillac.fr/wp-content/uploads/2026/03/foires-2026.jpg
END:VEVENT
BEGIN:VEVENT
DTSTART;TZID=Europe/Paris:20260415T143000
DTEND;TZID=Europe/Paris:20260415T170000
DTSTAMP:20260423T221645
CREATED:20260410T142645Z
LAST-MODIFIED:20260410T143232Z
UID:157865-1776263400-1776272400@www.aurillac.fr
SUMMARY:Printemps des Générations / Lancement officiel / Spectacle Cirque de Gascogne
DESCRIPTION:📅 Mercredi 15 Avril : Lancement Festif\n\n14h50 | Centre de Congrès : Lancement officiel en présence de Monsieur le Maire et des élus.\n15h | Centre de Congrès : Spectacle « Cirque Event » avec le Cirque de Gascogne. Performance\, humour et poésie (Entrée : 4 €).\n\n  \n\n\n\n    \n        \n            \n            \n                Dépliant Printemps des Générations 2026\n                 1 fichier·s  6.34 MB\n            \n            \n                Télécharger\n            \n        \n    \n\n\n\n \nArticle lié : Printemps des Générations 2025 / du 15 avril au 5 juin
URL:https://www.aurillac.fr/agenda/pg-15042026-2/
CATEGORIES:Associations,centre-ville,Informations,loisirs
ATTACH;FMTTYPE=image/jpeg:https://www.aurillac.fr/wp-content/uploads/2026/03/PG26_15AVRIL.jpg
END:VEVENT
BEGIN:VEVENT
DTSTART;TZID=Europe/Paris:20260416T183000
DTEND;TZID=Europe/Paris:20260416T220000
DTSTAMP:20260423T221645
CREATED:20260409T074857Z
LAST-MODIFIED:20260416T161605Z
UID:157740-1776364200-1776376800@www.aurillac.fr
SUMMARY:Conseil Municipal en direct
DESCRIPTION:La prochaine séance du conseil municipal se tiendra le jeudi 16 avril 2026 à 18h30 en salle du conseil à l’hôtel de ville. \n\nVous pouvez voir l’intégralité des débats en direct sur les sites aurillac.fr et notre chaine YOUTUBE @cmaurillacFACEBOOK : @mairiedaurillac \nDERNIER ORDRE DU JOUR : \n\n\n\n    \n\n        \n    \n            \n                \n                    \n                        \n                            \n                        \n                        \n                            \n                                Trier par :\n                                Date de publication\n                                Titre\n                                Date de mise à jour\n                                Téléchargements\n                                Vues\n                            \n                        \n                        \n                            \n                                Tri :\n                                Décroissant\n                                Croissant\n                            \n                        \n                        \n                            Appliquer le filtre\n                        \n                    \n                \n            \n\n            \n\n\n        \n            \n\n\n    \n        \n            \n            \n                ORDRE DU JOUR / CONSEIL MUNICIPAL DU 16 AVRIL 2026\n                 1 fichier·s  922.80 KB\n            \n            \n                Télécharger\n            \n        \n    \n\n\n                    \n\n        \n    \n\n \n\n\n  \n\n• ACCÉDER AUX COMPTES RENDUS DES CONSEILS MUNICIPAUX
URL:https://www.aurillac.fr/agenda/cm-16042026/
CATEGORIES:centre-ville,Informations
ATTACH;FMTTYPE=image/jpeg:https://www.aurillac.fr/wp-content/uploads/2025/10/fond-cm-direct.jpg
END:VEVENT
BEGIN:VEVENT
DTSTART;TZID=Europe/Paris:20260417T093000
DTEND;TZID=Europe/Paris:20260417T170000
DTSTAMP:20260423T221646
CREATED:20260410T143431Z
LAST-MODIFIED:20260410T143431Z
UID:157870-1776418200-1776445200@www.aurillac.fr
SUMMARY:Printemps des Générations / Randonnée à la journée\, des crêtes et du Puy Courny
DESCRIPTION:📅 Vendredi 17 Avril\nRandonnée à la journée\, des crêtes et du Puy Courny. Rendez vous à 9h30 à l’Alouette café avec le pique-nique. \nParticipation laissée à la libre appréciation du public \n\n\n\n    \n        \n            \n            \n                Dépliant Printemps des Générations 2026\n                 1 fichier·s  6.34 MB\n            \n            \n                Télécharger\n            \n        \n    \n\n\n\n \nArticle lié : Printemps des Générations 2025 / du 15 avril au 5 juin
URL:https://www.aurillac.fr/agenda/pg-17042026/
CATEGORIES:Associations,centre-ville,Informations,loisirs
ATTACH;FMTTYPE=image/jpeg:https://www.aurillac.fr/wp-content/uploads/2026/03/PG26_1400.jpg
END:VEVENT
BEGIN:VEVENT
DTSTART;TZID=Europe/Paris:20260417T140000
DTEND;TZID=Europe/Paris:20260417T170000
DTSTAMP:20260423T221646
CREATED:20260410T144037Z
LAST-MODIFIED:20260410T144037Z
UID:157875-1776434400-1776445200@www.aurillac.fr
SUMMARY:Printemps des Générations / Rallye nature
DESCRIPTION:📅 Vendredi 17 Avril\nLA PLANTELiÈRE \nà 14h\, Rallye nature « sur les pas du lièvre Léclair ».\nUn parcours en plein air jalonné d’indices (empreintes\, mots codés…) pour relever le défi d’identifier les animaux croisés sur le chemin de Léclair. Une enquête pour petits et grands !\nParticipation sur réservation à l’accueil du centre social du Cap Blanc. 2€/pers ou 3€ les deux (transport aller/retour – Cap blanc/la plantelière inclus). \n\n\n\n    \n        \n            \n            \n                Dépliant Printemps des Générations 2026\n                 1 fichier·s  6.34 MB\n            \n            \n                Télécharger\n            \n        \n    \n\n\n\n \nArticle lié : Printemps des Générations 2025 / du 15 avril au 5 juin
URL:https://www.aurillac.fr/agenda/pg-17042026-2/
CATEGORIES:Associations,centre-ville,Informations,loisirs
ATTACH;FMTTYPE=image/jpeg:https://www.aurillac.fr/wp-content/uploads/2026/03/PG26_1400.jpg
END:VEVENT
BEGIN:VEVENT
DTSTART;TZID=Europe/Paris:20260418T090000
DTEND;TZID=Europe/Paris:20260418T120000
DTSTAMP:20260423T221646
CREATED:20260414T101433Z
LAST-MODIFIED:20260414T101531Z
UID:157990-1776502800-1776513600@www.aurillac.fr
SUMMARY:Cuisine du Marché Couvert / avec Serge Cottin
DESCRIPTION:Ne manquez pas ce rendez-vous culinaire avec Serge Cottin. \nDémonstration & Partage : Regardez\, apprenez et surtout… goûtez ! \nLe menu du jour : L’élégance du Cake Figues & Jambon Cru et le réconfort d’un Crumble Pruneaux-Noisettes. \n📍 Cuisine du Marché Couvert d’Aurillac \n✨ Venez\, c’est gratuit ! \n 
URL:https://www.aurillac.fr/agenda/cuisine-marche-18042026/
CATEGORIES:Associations,centre-ville,Informations,Marchés
ATTACH;FMTTYPE=image/jpeg:https://www.aurillac.fr/wp-content/uploads/2026/04/ateliersmarche-18042026.jpg
END:VEVENT
BEGIN:VEVENT
DTSTART;TZID=Europe/Paris:20260418T140000
DTEND;TZID=Europe/Paris:20260418T170000
DTSTAMP:20260423T221646
CREATED:20260410T143658Z
LAST-MODIFIED:20260410T143954Z
UID:157872-1776520800-1776531600@www.aurillac.fr
SUMMARY:Printemps des Générations / après-midi festive et musicale
DESCRIPTION:📅 Samedi 18 Avril\nCENTRE PiERRE MENDES FRANCE \nà 14h\, après-midi festive et musicale avec le groupe Manon et ses musiciens. Inscription obligatoire au 04 71 62 89 00.\nParticipation laissée à la libre appréciation du public \n\n\n\n    \n        \n            \n            \n                Dépliant Printemps des Générations 2026\n                 1 fichier·s  6.34 MB\n            \n            \n                Télécharger\n            \n        \n    \n\n\n\n \nArticle lié : Printemps des Générations 2025 / du 15 avril au 5 juin
URL:https://www.aurillac.fr/agenda/pg-18042026/
CATEGORIES:Associations,centre-ville,Informations,loisirs
ATTACH;FMTTYPE=image/jpeg:https://www.aurillac.fr/wp-content/uploads/2026/03/PG26_1400.jpg
END:VEVENT
BEGIN:VEVENT
DTSTART;TZID=Europe/Paris:20260418T203000
DTEND;TZID=Europe/Paris:20260418T223000
DTSTAMP:20260423T221646
CREATED:20260410T144359Z
LAST-MODIFIED:20260410T144436Z
UID:157882-1776544200-1776551400@www.aurillac.fr
SUMMARY:Match de handball / Tirage d’une tombola au profit du Printemps des Générations
DESCRIPTION:📅 Samedi 18 Avril\nGYMNASE DE PEYROLLES \nà 20h30\, match de handball dans le cadre de la 19ème journée du championnat de France de nationale 3 entre le handball club des volcans aurillac cantal 15 et Hbc Marmandais. \nTirage d’une tombola au profit du printemps des générations. \n\n\n\n    \n        \n            \n            \n                Dépliant Printemps des Générations 2026\n                 1 fichier·s  6.34 MB\n            \n            \n                Télécharger\n            \n        \n    \n\n\n\n \nArticle lié : Printemps des Générations 2025 / du 15 avril au 5 juin
URL:https://www.aurillac.fr/agenda/pg-hand-18042026/
CATEGORIES:Associations,centre-ville,Informations,loisirs
ATTACH;FMTTYPE=image/jpeg:https://www.aurillac.fr/wp-content/uploads/2025/10/handball-cv-aurillac-logo.jpg
END:VEVENT
BEGIN:VEVENT
DTSTART;TZID=Europe/Paris:20260420T143000
DTEND;TZID=Europe/Paris:20260420T170000
DTSTAMP:20260423T221646
CREATED:20260410T144705Z
LAST-MODIFIED:20260410T144705Z
UID:157884-1776695400-1776704400@www.aurillac.fr
SUMMARY:Printemps des Générations / pièce de théâtre musical sur le bien vieillir
DESCRIPTION:📅 Lundi 20 Avril\nCENTRE DE CONGRÈS \nà 14h30\, le CLIC du Bassin d’Aurillac en partenariat avec l’ARSEPT Auvergne vous propose une pièce de théâtre musical sur le bien vieillir intitulée « Une nouvelle saison ».\nEt si la retraite\, c’était de faire des projets et d’aiguiser notre appétit ?\nQuatre jeunes retraités ont créé un lieu associatif pour continuer à être actif et rompre avec l’isolement. Ici on rit\, on cause on chante… Ce petit air frais de comédie musicale nous caresse l’oreille et pose un regard neuf et positif sur la retraite. \nParticipation laissée à la libre appréciation du public. Goûter offert. \n\n\n\n    \n        \n            \n            \n                Dépliant Printemps des Générations 2026\n                 1 fichier·s  6.34 MB\n            \n            \n                Télécharger\n            \n        \n    \n\n\n\n \nArticle lié : Printemps des Générations 2025 / du 15 avril au 5 juin
URL:https://www.aurillac.fr/agenda/pg-20042026/
CATEGORIES:Associations,centre-ville,Informations,loisirs
ATTACH;FMTTYPE=image/jpeg:https://www.aurillac.fr/wp-content/uploads/2026/03/PG26_1400.jpg
END:VEVENT
BEGIN:VEVENT
DTSTART;TZID=Europe/Paris:20260423T140000
DTEND;TZID=Europe/Paris:20260423T150000
DTSTAMP:20260423T221647
CREATED:20260421T133652Z
LAST-MODIFIED:20260421T133652Z
UID:158201-1776952800-1776956400@www.aurillac.fr
SUMMARY:Rencontre groupe de paroles SEP (Sclérose en plaques) / APF France Handicap
DESCRIPTION:L’École de la SEP organise une session d’information et d’échange pour aider à mieux vivre avec la sclérose en plaques au quotidien. Cette rencontre est ouverte aux patients\, à leur entourage ainsi qu’au grand public. \n📅 Informations Pratiques\n\nDate : Jeudi 23 avril 2026.\nHoraires : De 14h à 15h.\nLieu : Délégation APF France handicap\, 14 rue de la Jordanne\, 15000 Aurillac.\nAccès : Un parking est disponible au 27 avenue des Volontaires.\n\n🎙️\n– Un espace d’écoute et de soutien pour les personnes atteintes de sclérose en plaques (SEP) ainsi que pour leurs proches. \n– Un accueil bienveillant où chacun pourra s’exprimer librement\, partager son expérience et trouver du soutien. \nEncadré par les référentes du groupe (Julie et Danielle) sensibilisés à la SEP\, ce groupe de parole permettra d’aborder de nombreux thèmes : gestion du quotidien\, impact de la maladie sur la vie personnelle et professionnelle\, accompagnement des proches\, ou encore ressources disponibles pour mieux vivre avec la maladie. \nAu-delà des discussions\, ces rencontres sont aussi l’occasion de créer du lien\, de partager des conseils pratiques et de renforcer un sentiment de communauté souvent essentiel dans le parcours de chacun. \nOuvert à tous\, ce groupe de parole se veut accessible\, sans jugement et centré sur l’humain. Une initiative importante pour rappeler que\, face à la sclérose en plaques\, personne ne doit rester seul. \n\n\n📞 Contacts et Inscriptions\nPour obtenir plus de renseignements\, vous pouvez contacter la délégation APF France handicap : \n\nPar téléphone : 04 71 48 20 57 ou 06 43 65 89 57\nPar e-mail : dd.15@apf.asso.fr
URL:https://www.aurillac.fr/agenda/sep-apf-23042026/
CATEGORIES:Associations,centre-ville
ATTACH;FMTTYPE=image/jpeg:https://www.aurillac.fr/wp-content/uploads/2025/10/ECOLE-DE-LA-SEP-sclerose.jpg
END:VEVENT
BEGIN:VEVENT
DTSTART;TZID=Europe/Paris:20260423T160000
DTEND;TZID=Europe/Paris:20260423T190000
DTSTAMP:20260423T221647
CREATED:20251202T154512Z
LAST-MODIFIED:20251202T154512Z
UID:144220-1776960000-1776970800@www.aurillac.fr
SUMMARY:Collecte de sang
DESCRIPTION:L’Établissement français du sang (EFS) du Cantal organise une collecte au Sismographe (Marmiers)\, le jeudi 23 avril de 16h à 19h.\n \nEn France\, 10 000 dons sont nécessaires chaque jour pour soigner et sauver des vies. \n\nlien pour prendre RDV : https://efs.link/yHGiP\n\nSe munir d’une pièce d’identité et ne pas venir à jeun. \nRDV sur dondesang.efs.sante.fr ou au 04 78 65 63 63. \n  \n 
URL:https://www.aurillac.fr/agenda/collecte-de-sang-23042026/
CATEGORIES:Associations,centre-ville,Informations
ATTACH;FMTTYPE=image/jpeg:https://www.aurillac.fr/wp-content/uploads/2025/04/DonDeSang-25.jpg
END:VEVENT
BEGIN:VEVENT
DTSTART;TZID=Europe/Paris:20260506T150000
DTEND;TZID=Europe/Paris:20260506T170000
DTSTAMP:20260423T221647
CREATED:20260410T145107Z
LAST-MODIFIED:20260410T145107Z
UID:157886-1778079600-1778086800@www.aurillac.fr
SUMMARY:Printemps des Générations / Spectacle de Magie "A la recherche de Bobby"
DESCRIPTION:📅 Mercredi 6 mai\n15h | Espace Hélitas : Spectacle de magie (Entrée : 4 €). \n  \n\n\n\n    \n        \n            \n            \n                Dépliant Printemps des Générations 2026\n                 1 fichier·s  6.34 MB\n            \n            \n                Télécharger\n            \n        \n    \n\n\n\n \nArticle lié : Printemps des Générations 2025 / du 15 avril au 5 juin
URL:https://www.aurillac.fr/agenda/pg-06052026/
CATEGORIES:Associations,centre-ville,Informations,loisirs
ATTACH;FMTTYPE=image/jpeg:https://www.aurillac.fr/wp-content/uploads/2026/03/PG26_6MAI.jpg
END:VEVENT
BEGIN:VEVENT
DTSTART;VALUE=DATE:20260531
DTEND;VALUE=DATE:20260601
DTSTAMP:20260423T221647
CREATED:20260331T133115Z
LAST-MODIFIED:20260331T133115Z
UID:157535-1780185600-1780271999@www.aurillac.fr
SUMMARY:Foire de la St Urbain
DESCRIPTION:La ville d’Aurillac organise plusieurs foires thématiques tout au long de l’année 2026. Ces événements se déroulent sur le parking du Gravier.\nNavette bus gratuite desservant les quartiers\, circuits et horaires détaillés\n\n\n\nProchaines foires : \n\n\n\n\nFoire de la St Géraud : Dimanche 11 octobre.\nFoire de la St Martin : Dimanche 8 novembre.\nFoire de la Ste Luce : Dimanche 6 décembre.\n\n\n\n\nRenseignements complémentaires auprès du service Commerce de la Ville d’Aurillac au 04 71 45 46 32
URL:https://www.aurillac.fr/agenda/foire-st-urbain/
CATEGORIES:centre-ville,Foires et salons,Informations
ATTACH;FMTTYPE=image/jpeg:https://www.aurillac.fr/wp-content/uploads/2026/03/foires-2026.jpg
END:VEVENT
BEGIN:VEVENT
DTSTART;VALUE=DATE:20260703
DTEND;VALUE=DATE:20260706
DTSTAMP:20260423T221647
CREATED:20260112T103259Z
LAST-MODIFIED:20260319T105424Z
UID:147231-1783036800-1783295999@www.aurillac.fr
SUMMARY:Les Goudots Gourmands
DESCRIPTION:En partenariat avec la Communauté d’Agglomération du Bassin d’Aurillac et l’Office de Tourisme du Pays d’Aurillac\, la Ville d’Aurillac organise du vendredi 3 au dimanche 5 juillet 2026 le festival des Goudots Gourmands.
URL:https://www.aurillac.fr/agenda/les-goudots-gourmands-2026/
CATEGORIES:centre-ville,Concerts et Spectacles,Informations,loisirs,Marchés
ATTACH;FMTTYPE=image/jpeg:https://www.aurillac.fr/wp-content/uploads/2026/01/goudots-sans-date.jpg
END:VEVENT
BEGIN:VEVENT
DTSTART;VALUE=DATE:20260713
DTEND;VALUE=DATE:20260715
DTSTAMP:20260423T221647
CREATED:20260319T165238Z
LAST-MODIFIED:20260319T165244Z
UID:156788-1783900800-1784073599@www.aurillac.fr
SUMMARY:Le Tour de France fait escale dans le Cantal
DESCRIPTION:Nous avons le plaisir de vous donner rendez-vous les 13 et 14 juillet 2026 pour célébrer le passage de la plus célèbre des courses cyclistes. Deux temps forts marqueront ce séjour : \n\nLundi 13 juillet : Une journée de repos propice à la rencontre et à la détente\, où l’esprit du Tour envahira les routes de notre territoire.\nMardi 14 juillet : Une étape spectaculaire reliant Aurillac au Lioran. Ce parcours de haute volée mettra à l’honneur nos sommets emblématiques\, dont le col du Pertus et le majestueux Pas de Peyrol (Puy Mary).\n\n			\n				\n				\n				\n				\n				\n\n  \n> ZOOM SUR L’ETAPE (site officiel du Tour de France)
URL:https://www.aurillac.fr/agenda/tdf-2026/
CATEGORIES:Associations,centre-ville,Concerts et Spectacles,Informations
ATTACH;FMTTYPE=image/jpeg:https://www.aurillac.fr/wp-content/uploads/2024/07/tdf-11072024-04.jpg
END:VEVENT
BEGIN:VEVENT
DTSTART;VALUE=DATE:20260714
DTEND;VALUE=DATE:20260715
DTSTAMP:20260423T221647
CREATED:20260112T104143Z
LAST-MODIFIED:20260112T104243Z
UID:147237-1783987200-1784073599@www.aurillac.fr
SUMMARY:14 juillet / Fête Nationale / Tour de France
DESCRIPTION:PROGRAMME DE LA JOURNÉE \n\n\n\n\n11h30 : Apéritif Républicain avec l’Harmonie Municipale (parvis de l’Hôtel de Ville)20h : Concert \n22h30 : Grand spectacle pyrotechnique \nPlus d’infos prochainement… \n\n\n			\n				\n				\n				\n				\n				\n\nAurillac et le Cantal s’offrent une étape mythique du tour de France\, celle du 14 juillet\, celle ou l’on espère un coureur français sur la plus haute marche du podium. \n> ZOOM SUR L’ETAPE (site officiel du Tour de France)
URL:https://www.aurillac.fr/agenda/14-juillet-2026/
CATEGORIES:Associations,centre-ville,Concerts et Spectacles,Informations
END:VEVENT
BEGIN:VEVENT
DTSTART;VALUE=DATE:20260716
DTEND;VALUE=DATE:20260720
DTSTAMP:20260423T221647
CREATED:20260112T105251Z
LAST-MODIFIED:20260112T105251Z
UID:147245-1784160000-1784505599@www.aurillac.fr
SUMMARY:Festi Jump 2026
DESCRIPTION:Le Festi Jump\, ce sont des concerts et de la danse rock\, swing\, boogie…  \n\n\n\n\nDu 16 au 19 juillet\, l’évènement musical Festi’Jump animera les terrasses du centre-ville avec une programmation swing\, rock et boogie.\nComme chaque année\, le public est attendu nombreux pour découvrir de nouveaux groupes et danser au son de leurs rythmes endiablés. \n  \n> Page spéciale Festijump (prochainement) \n\n\n 
URL:https://www.aurillac.fr/agenda/festijump-2026/
CATEGORIES:Associations,centre-ville,Culture,Informations,loisirs
END:VEVENT
BEGIN:VEVENT
DTSTART;VALUE=DATE:20261011
DTEND;VALUE=DATE:20261012
DTSTAMP:20260423T221647
CREATED:20260331T133259Z
LAST-MODIFIED:20260331T133355Z
UID:157537-1791676800-1791763199@www.aurillac.fr
SUMMARY:Foire de la St Géraud
DESCRIPTION:La ville d’Aurillac organise plusieurs foires thématiques tout au long de l’année 2026. Ces événements se déroulent sur le parking du Gravier.\nNavette bus gratuite desservant les quartiers\, circuits et horaires détaillés\n\n\n\nProchaines foires : \n\n\n\n\nFoire de la St Martin : Dimanche 8 novembre.\nFoire de la Ste Luce : Dimanche 6 décembre.\n\n\n\n\nRenseignements complémentaires auprès du service Commerce de la Ville d’Aurillac au 04 71 45 46 32
URL:https://www.aurillac.fr/agenda/foire-st-geraud/
CATEGORIES:centre-ville,Foires et salons,Informations
ATTACH;FMTTYPE=image/jpeg:https://www.aurillac.fr/wp-content/uploads/2026/03/foires-2026.jpg
END:VEVENT
BEGIN:VEVENT
DTSTART;VALUE=DATE:20261108
DTEND;VALUE=DATE:20261109
DTSTAMP:20260423T221647
CREATED:20260331T133529Z
LAST-MODIFIED:20260331T133529Z
UID:157540-1794096000-1794182399@www.aurillac.fr
SUMMARY:Foire de la St Martin
DESCRIPTION:La ville d’Aurillac organise plusieurs foires thématiques tout au long de l’année 2026. Ces événements se déroulent sur le parking du Gravier.\nNavette bus gratuite desservant les quartiers\, circuits et horaires détaillés\n\n\n\nProchaine foire : \n\n\n\n\nFoire de la Ste Luce : Dimanche 6 décembre.\n\n\n\n\nRenseignements complémentaires auprès du service Commerce de la Ville d’Aurillac au 04 71 45 46 32
URL:https://www.aurillac.fr/agenda/foire-st-martin/
CATEGORIES:centre-ville,Foires et salons,Informations
ATTACH;FMTTYPE=image/jpeg:https://www.aurillac.fr/wp-content/uploads/2026/03/foires-2026.jpg
END:VEVENT
BEGIN:VEVENT
DTSTART;VALUE=DATE:20261206
DTEND;VALUE=DATE:20261207
DTSTAMP:20260423T221647
CREATED:20260331T134330Z
LAST-MODIFIED:20260331T134330Z
UID:157542-1796515200-1796601599@www.aurillac.fr
SUMMARY:Foire de la Ste Luce
DESCRIPTION:La ville d’Aurillac organise plusieurs foires thématiques tout au long de l’année 2026. Ces événements se déroulent sur le parking du Gravier.\nNavette bus gratuite desservant les quartiers\, circuits et horaires détaillés\n\n\n\n\n\n\nRenseignements complémentaires auprès du service Commerce de la Ville d’Aurillac au 04 71 45 46 32
URL:https://www.aurillac.fr/agenda/foire-ste-luce/
CATEGORIES:centre-ville,Foires et salons,Informations
ATTACH;FMTTYPE=image/jpeg:https://www.aurillac.fr/wp-content/uploads/2026/03/foires-2026.jpg
END:VEVENT
END:VCALENDAR