BEGIN:VCALENDAR
VERSION:2.0
PRODID:-//Mairie d&#039;Aurillac - ECPv6.15.20//NONSGML v1.0//EN
CALSCALE:GREGORIAN
METHOD:PUBLISH
X-ORIGINAL-URL:https://www.aurillac.fr
X-WR-CALDESC:Évènements pour Mairie d&#039;Aurillac
REFRESH-INTERVAL;VALUE=DURATION:PT1H
X-Robots-Tag:noindex
X-PUBLISHED-TTL:PT1H
BEGIN:VTIMEZONE
TZID:Europe/Paris
BEGIN:DAYLIGHT
TZOFFSETFROM:+0100
TZOFFSETTO:+0200
TZNAME:CEST
DTSTART:20250330T010000
END:DAYLIGHT
BEGIN:STANDARD
TZOFFSETFROM:+0200
TZOFFSETTO:+0100
TZNAME:CET
DTSTART:20251026T010000
END:STANDARD
BEGIN:DAYLIGHT
TZOFFSETFROM:+0100
TZOFFSETTO:+0200
TZNAME:CEST
DTSTART:20260329T010000
END:DAYLIGHT
BEGIN:STANDARD
TZOFFSETFROM:+0200
TZOFFSETTO:+0100
TZNAME:CET
DTSTART:20261025T010000
END:STANDARD
BEGIN:DAYLIGHT
TZOFFSETFROM:+0100
TZOFFSETTO:+0200
TZNAME:CEST
DTSTART:20270328T010000
END:DAYLIGHT
BEGIN:STANDARD
TZOFFSETFROM:+0200
TZOFFSETTO:+0100
TZNAME:CET
DTSTART:20271031T010000
END:STANDARD
END:VTIMEZONE
BEGIN:VEVENT
DTSTART;TZID=Europe/Paris:20260418T203000
DTEND;TZID=Europe/Paris:20260418T220000
DTSTAMP:20260423T214527
CREATED:20251117T110051Z
LAST-MODIFIED:20251117T110051Z
UID:142084-1776544200-1776549600@www.aurillac.fr
SUMMARY:Handball - Aurillac Handball Club des Volcans / Handball Club Marmandais
DESCRIPTION:Match de Nationale 3\n \nLieu : Gymnase de Peyrolles
URL:https://www.aurillac.fr/agenda/handball-aurillac-hcv-18042026/
CATEGORIES:Associations,Informations,Sports,Sports et loisirs
ATTACH;FMTTYPE=image/jpeg:https://www.aurillac.fr/wp-content/uploads/2025/10/handball-cv-aurillac-logo.jpg
END:VEVENT
BEGIN:VEVENT
DTSTART;TZID=Europe/Paris:20260418T203000
DTEND;TZID=Europe/Paris:20260418T223000
DTSTAMP:20260423T214527
CREATED:20260410T144359Z
LAST-MODIFIED:20260410T144436Z
UID:157882-1776544200-1776551400@www.aurillac.fr
SUMMARY:Match de handball / Tirage d’une tombola au profit du Printemps des Générations
DESCRIPTION:📅 Samedi 18 Avril\nGYMNASE DE PEYROLLES \nà 20h30\, match de handball dans le cadre de la 19ème journée du championnat de France de nationale 3 entre le handball club des volcans aurillac cantal 15 et Hbc Marmandais. \nTirage d’une tombola au profit du printemps des générations. \n\n\n\n    \n        \n            \n            \n                Dépliant Printemps des Générations 2026\n                 1 fichier·s  6.34 MB\n            \n            \n                Télécharger\n            \n        \n    \n\n\n\n \nArticle lié : Printemps des Générations 2025 / du 15 avril au 5 juin
URL:https://www.aurillac.fr/agenda/pg-hand-18042026/
CATEGORIES:Associations,centre-ville,Informations,loisirs
ATTACH;FMTTYPE=image/jpeg:https://www.aurillac.fr/wp-content/uploads/2025/10/handball-cv-aurillac-logo.jpg
END:VEVENT
BEGIN:VEVENT
DTSTART;TZID=Europe/Paris:20260420T143000
DTEND;TZID=Europe/Paris:20260420T170000
DTSTAMP:20260423T214528
CREATED:20260410T144705Z
LAST-MODIFIED:20260410T144705Z
UID:157884-1776695400-1776704400@www.aurillac.fr
SUMMARY:Printemps des Générations / pièce de théâtre musical sur le bien vieillir
DESCRIPTION:📅 Lundi 20 Avril\nCENTRE DE CONGRÈS \nà 14h30\, le CLIC du Bassin d’Aurillac en partenariat avec l’ARSEPT Auvergne vous propose une pièce de théâtre musical sur le bien vieillir intitulée « Une nouvelle saison ».\nEt si la retraite\, c’était de faire des projets et d’aiguiser notre appétit ?\nQuatre jeunes retraités ont créé un lieu associatif pour continuer à être actif et rompre avec l’isolement. Ici on rit\, on cause on chante… Ce petit air frais de comédie musicale nous caresse l’oreille et pose un regard neuf et positif sur la retraite. \nParticipation laissée à la libre appréciation du public. Goûter offert. \n\n\n\n    \n        \n            \n            \n                Dépliant Printemps des Générations 2026\n                 1 fichier·s  6.34 MB\n            \n            \n                Télécharger\n            \n        \n    \n\n\n\n \nArticle lié : Printemps des Générations 2025 / du 15 avril au 5 juin
URL:https://www.aurillac.fr/agenda/pg-20042026/
CATEGORIES:Associations,centre-ville,Informations,loisirs
ATTACH;FMTTYPE=image/jpeg:https://www.aurillac.fr/wp-content/uploads/2026/03/PG26_1400.jpg
END:VEVENT
BEGIN:VEVENT
DTSTART;TZID=Europe/Paris:20260423T140000
DTEND;TZID=Europe/Paris:20260423T150000
DTSTAMP:20260423T214529
CREATED:20260421T133652Z
LAST-MODIFIED:20260421T133652Z
UID:158201-1776952800-1776956400@www.aurillac.fr
SUMMARY:Rencontre groupe de paroles SEP (Sclérose en plaques) / APF France Handicap
DESCRIPTION:L’École de la SEP organise une session d’information et d’échange pour aider à mieux vivre avec la sclérose en plaques au quotidien. Cette rencontre est ouverte aux patients\, à leur entourage ainsi qu’au grand public. \n📅 Informations Pratiques\n\nDate : Jeudi 23 avril 2026.\nHoraires : De 14h à 15h.\nLieu : Délégation APF France handicap\, 14 rue de la Jordanne\, 15000 Aurillac.\nAccès : Un parking est disponible au 27 avenue des Volontaires.\n\n🎙️\n– Un espace d’écoute et de soutien pour les personnes atteintes de sclérose en plaques (SEP) ainsi que pour leurs proches. \n– Un accueil bienveillant où chacun pourra s’exprimer librement\, partager son expérience et trouver du soutien. \nEncadré par les référentes du groupe (Julie et Danielle) sensibilisés à la SEP\, ce groupe de parole permettra d’aborder de nombreux thèmes : gestion du quotidien\, impact de la maladie sur la vie personnelle et professionnelle\, accompagnement des proches\, ou encore ressources disponibles pour mieux vivre avec la maladie. \nAu-delà des discussions\, ces rencontres sont aussi l’occasion de créer du lien\, de partager des conseils pratiques et de renforcer un sentiment de communauté souvent essentiel dans le parcours de chacun. \nOuvert à tous\, ce groupe de parole se veut accessible\, sans jugement et centré sur l’humain. Une initiative importante pour rappeler que\, face à la sclérose en plaques\, personne ne doit rester seul. \n\n\n📞 Contacts et Inscriptions\nPour obtenir plus de renseignements\, vous pouvez contacter la délégation APF France handicap : \n\nPar téléphone : 04 71 48 20 57 ou 06 43 65 89 57\nPar e-mail : dd.15@apf.asso.fr
URL:https://www.aurillac.fr/agenda/sep-apf-23042026/
CATEGORIES:Associations,centre-ville
ATTACH;FMTTYPE=image/jpeg:https://www.aurillac.fr/wp-content/uploads/2025/10/ECOLE-DE-LA-SEP-sclerose.jpg
END:VEVENT
BEGIN:VEVENT
DTSTART;TZID=Europe/Paris:20260423T160000
DTEND;TZID=Europe/Paris:20260423T190000
DTSTAMP:20260423T214529
CREATED:20251202T154512Z
LAST-MODIFIED:20251202T154512Z
UID:144220-1776960000-1776970800@www.aurillac.fr
SUMMARY:Collecte de sang
DESCRIPTION:L’Établissement français du sang (EFS) du Cantal organise une collecte au Sismographe (Marmiers)\, le jeudi 23 avril de 16h à 19h.\n \nEn France\, 10 000 dons sont nécessaires chaque jour pour soigner et sauver des vies. \n\nlien pour prendre RDV : https://efs.link/yHGiP\n\nSe munir d’une pièce d’identité et ne pas venir à jeun. \nRDV sur dondesang.efs.sante.fr ou au 04 78 65 63 63. \n  \n 
URL:https://www.aurillac.fr/agenda/collecte-de-sang-23042026/
CATEGORIES:Associations,centre-ville,Informations
ATTACH;FMTTYPE=image/jpeg:https://www.aurillac.fr/wp-content/uploads/2025/04/DonDeSang-25.jpg
END:VEVENT
BEGIN:VEVENT
DTSTART;VALUE=DATE:20260425
DTEND;VALUE=DATE:20260427
DTSTAMP:20260423T214529
CREATED:20260319T132524Z
LAST-MODIFIED:20260319T132524Z
UID:156773-1777075200-1777247999@www.aurillac.fr
SUMMARY:Spectacle aérien et danse
DESCRIPTION:La 9ᵉ édition de notre spectacle au Théâtre d’Aurillac promet une soirée riche en émotions et en surprises.\nAux côtés de la pole dance et du cerceau aérien\, disciplines emblématiques du spectacle\, de nouveaux agrès aériens feront leur apparition sur scène. La danse\, sous plusieurs formes\, viendra également enrichir cette édition.\nUn moment artistique mêlant grâce\, énergie et créativité\, accessible à tous les publics\, pour découvrir ou redécouvrir la magie des arts aériens
URL:https://www.aurillac.fr/agenda/spectacle-aerien-et-danse/
CATEGORIES:Associations,Concerts et Spectacles,Informations
ATTACH;FMTTYPE=image/jpeg:https://www.aurillac.fr/wp-content/uploads/2026/03/aerien-danse-2026.jpg
END:VEVENT
BEGIN:VEVENT
DTSTART;TZID=Europe/Paris:20260425T100000
DTEND;TZID=Europe/Paris:20260425T120000
DTSTAMP:20260423T214529
CREATED:20260409T082441Z
LAST-MODIFIED:20260409T082722Z
UID:157748-1777111200-1777118400@www.aurillac.fr
SUMMARY:L'Atelier des Mots : Apprivoiser les émotions en famille / UDAF
DESCRIPTION:L’UDAF du Cantal organise une séance spéciale de « L’Atelier des Mots »\, un espace de rencontre dédié aux parents et aux enfants pour apprendre à mieux comprendre et exprimer ses émotions. \nIl est parfois difficile pour un enfant de maîtriser ce qu’il ressent (colère\, excitation\, tristesse) et tout aussi complexe pour les parents d’accueillir ces crises. Cet atelier propose : \n\nDes outils ludiques et concrets pour faciliter le dialogue.\nUn accompagnement pour aider l’enfant à mettre des mots sur ses ressentis.\nUn moment de partage privilégié entre parents et enfants.\n\nInformations Pratiques\n\nPour qui ? Les duos parents/enfants (enfants âgés de 3 à 11 ans).\nQuand ? Le samedi 25 avril 2026\, de 10h à 12h.\nOù ? À la Maison des Familles\, 45 avenue de la République\, 15000 Aurillac.\nGratuit.\n\nInscriptions et Contact\nL’atelier est accessible uniquement sur inscription. Vous pouvez réserver votre place ou obtenir plus de renseignements via : \n\nTéléphone : 04 71 43 18 19\nE-mail : pointinfofamille@udaf15.fr\nRéseaux sociaux : Page Facebook « Point InfoFamille »\n\n 
URL:https://www.aurillac.fr/agenda/atelier-des-mots-25042026/
CATEGORIES:Associations,Informations
ATTACH;FMTTYPE=image/jpeg:https://www.aurillac.fr/wp-content/uploads/2026/04/atelier-mots-25042026.jpg
END:VEVENT
BEGIN:VEVENT
DTSTART;TZID=Europe/Paris:20260425T180000
DTEND;TZID=Europe/Paris:20260425T200000
DTSTAMP:20260423T214529
CREATED:20251025T052127Z
LAST-MODIFIED:20251025T052127Z
UID:139548-1777140000-1777147200@www.aurillac.fr
SUMMARY:Football - Aurillac FC / Chassieu Decines FC
DESCRIPTION:Match de Régional 1 – Poule A \nLieu : stade de Baradel
URL:https://www.aurillac.fr/agenda/football-aurillac-fc-25042026/
CATEGORIES:Associations,Informations,Sports et loisirs
ATTACH;FMTTYPE=image/png:https://www.aurillac.fr/wp-content/uploads/2025/10/LOGO-afc-01-foot.png
END:VEVENT
BEGIN:VEVENT
DTSTART;TZID=Europe/Paris:20260426T080000
DTEND;TZID=Europe/Paris:20260426T123000
DTSTAMP:20260423T214529
CREATED:20260409T150926Z
LAST-MODIFIED:20260409T150926Z
UID:157811-1777190400-1777206600@www.aurillac.fr
SUMMARY:Marché Bio et Vide Dressing
DESCRIPTION:Le dimanche 26 avril 2026\, de 8h30 à 13h\, le square des Alouettes vous ouvre ses portes pour faire vos emplettes ! \nDans le cadre de ses marchés bio et producteurs locaux\, l’Alouette café recherche des producteurs (fruits et ou légumes).\nLe prochain marché à lieu le dimanche 26 avril 2026 matin. Convivialité et simplicité caractérisent ce marché gratuit pour les exposants qui doivent s’installer à 8 h et remballer après 12 h 30 . Traditionnellement \, organisé une fois par trimestre\, le marché est associé  à un vide dressing\, grenier ou bourses aux livres.
URL:https://www.aurillac.fr/agenda/marche-bio-et-vide-dressing-2026/
CATEGORIES:Associations,Informations
END:VEVENT
BEGIN:VEVENT
DTSTART;TZID=Europe/Paris:20260426T090000
DTEND;TZID=Europe/Paris:20260426T120000
DTSTAMP:20260423T214529
CREATED:20260305T090254Z
LAST-MODIFIED:20260402T094233Z
UID:154255-1777194000-1777204800@www.aurillac.fr
SUMMARY:3ème édition 10km d'Aurillac
DESCRIPTION:Le club d’Aurillac Athlétisme organise la 3ème édition des 10 km d’Aurillac\, le dimanche 26 avril 2026 de 9h à 12h. \nSur 5 ou 10 km\, venez participer à cette fête du running et du sport santé dans les rues d’Aurillac. \nInscriptions et informations sur www.aurillacathle.fr \n 
URL:https://www.aurillac.fr/agenda/3eme-edition-10km-daurillac/
CATEGORIES:Associations,Informations,Sports et loisirs
ATTACH;FMTTYPE=image/jpeg:https://www.aurillac.fr/wp-content/uploads/2026/03/10-km-Aurillac-2026.jpg
END:VEVENT
BEGIN:VEVENT
DTSTART;TZID=Europe/Paris:20260426T170000
DTEND;TZID=Europe/Paris:20260426T183000
DTSTAMP:20260423T214529
CREATED:20260421T134253Z
LAST-MODIFIED:20260421T134253Z
UID:158204-1777222800-1777228200@www.aurillac.fr
SUMMARY:Grand concert / Annycroch's
DESCRIPTION:🎶 Grand concert chœurs et orchestre au profit de l’association CANTAL ECOUTE CANCER \nDirection Gérard DELBOS avec les chœurs des voix ARVERNES et  l’orchestre ANNYCROCH’S.\n🗓️ Dimanche 26 avril  📍 auditorium du conservatoire d’Aurillac – 37 Rue des carmes – 17 h \n🎟️ Tarif : 15 €
URL:https://www.aurillac.fr/agenda/concert-annycrochs-26042026/
CATEGORIES:Associations,Concerts et Spectacles,Culture,Informations
ATTACH;FMTTYPE=image/jpeg:https://www.aurillac.fr/wp-content/uploads/2025/12/annycrochs.jpg
END:VEVENT
BEGIN:VEVENT
DTSTART;VALUE=DATE:20260501
DTEND;VALUE=DATE:20260601
DTSTAMP:20260423T214529
CREATED:20251113T091355Z
LAST-MODIFIED:20260409T073055Z
UID:141621-1777593600-1780271999@www.aurillac.fr
SUMMARY:Fête foraine de la St-Urbain
DESCRIPTION:Evènement majeur du printemps à Aurillac\, la fête foraine   de la Saint-Urbain se tiendra du vendredi 1er mai au dimanche 31 mai 2026 inclus\, sur l’aire événementielle de la Ponétie à Aurillac.\nAmateur de sensations fortes\, envie de vous amuser entre amis ou en famille\, n’hésitez pas à aller y faire un tour ! \nInauguration le 1er mai à 14h00 \nMERCREDIS 6 & 20 MAI : JOURNÉES 1/2 TARIF ET TARIFS RÉDUITS \n–  Mardi 5 mai  : après-midi au profit d’enfants et d’adolescents en situation de handicap\n \nSpectacle pyrotechnique : vendredis 1er mai et 29 mai à 23h\n(*report possible suivant les conditions météo) \nProgramme complet : facebook\, fête foraine la St Urbain
URL:https://www.aurillac.fr/agenda/fete-foraine-st-urbain-2026/
CATEGORIES:Associations,Informations,loisirs
ATTACH;FMTTYPE=image/jpeg:https://www.aurillac.fr/wp-content/uploads/2025/11/fete-foraine-prog-2026.jpg
END:VEVENT
BEGIN:VEVENT
DTSTART;TZID=Europe/Paris:20260505T134500
DTEND;TZID=Europe/Paris:20260505T163000
DTSTAMP:20260423T214529
CREATED:20260421T132046Z
LAST-MODIFIED:20260421T132046Z
UID:158193-1777988700-1777998600@www.aurillac.fr
SUMMARY:Ciné Papote
DESCRIPTION:Une fois par mois en association avec le centre social culturel d’Ytrac\, nous vous proposons un moment d’échange convivial autour d’un film. Venez discuter et partager vos impressions autour d’un délicieux goûter. \n Ce mois ci découvrez  » Pour le meilleur »\, l’incroyable histoire d’amour entre Philippe Croizon\, un homme privé de ses quatre membres et de Suzana\, une femme qui va lui redonner l’énergie et la possibilité d’avoir encore des rêves\, dont celui de traverser la Manche à la nage. \nLieu : Cinéma le Cristal\n04 71 64 02 03 \nequipe.aurillac@cinewest.fr \n#mycinewest #mycinewestaurillac \n 
URL:https://www.aurillac.fr/agenda/cine-05052026/
CATEGORIES:Associations,Culture,Informations
ATTACH;FMTTYPE=image/jpeg:https://www.aurillac.fr/wp-content/uploads/2026/04/cine-papote-05052026.jpg
END:VEVENT
BEGIN:VEVENT
DTSTART;TZID=Europe/Paris:20260506T150000
DTEND;TZID=Europe/Paris:20260506T170000
DTSTAMP:20260423T214529
CREATED:20260410T145107Z
LAST-MODIFIED:20260410T145107Z
UID:157886-1778079600-1778086800@www.aurillac.fr
SUMMARY:Printemps des Générations / Spectacle de Magie "A la recherche de Bobby"
DESCRIPTION:📅 Mercredi 6 mai\n15h | Espace Hélitas : Spectacle de magie (Entrée : 4 €). \n  \n\n\n\n    \n        \n            \n            \n                Dépliant Printemps des Générations 2026\n                 1 fichier·s  6.34 MB\n            \n            \n                Télécharger\n            \n        \n    \n\n\n\n \nArticle lié : Printemps des Générations 2025 / du 15 avril au 5 juin
URL:https://www.aurillac.fr/agenda/pg-06052026/
CATEGORIES:Associations,centre-ville,Informations,loisirs
ATTACH;FMTTYPE=image/jpeg:https://www.aurillac.fr/wp-content/uploads/2026/03/PG26_6MAI.jpg
END:VEVENT
BEGIN:VEVENT
DTSTART;TZID=Europe/Paris:20260508T190000
DTEND;TZID=Europe/Paris:20260508T210000
DTSTAMP:20260423T214529
CREATED:20251030T172615Z
LAST-MODIFIED:20260410T093622Z
UID:140453-1778266800-1778274000@www.aurillac.fr
SUMMARY:Stade Aurillacois contre FC Grenoble Rugby / Rugby Pro D2 - J29
DESCRIPTION:Les Aurillacois\, reçoivent le FC Grenoble Rugby à Jean Alric ! \n 19h : Coup d’envoi au Stade Jean Alric  \nTous derrière nos Rouge et Bleu pour ce match\n𝐀𝐥𝐥𝐞𝐳 𝐥𝐞 𝐒𝐭𝐚𝐝𝐞  !
URL:https://www.aurillac.fr/agenda/stade-aurillacois-pro-d2-08052026/
CATEGORIES:Associations,Informations,Sports et loisirs
ATTACH;FMTTYPE=image/jpeg:https://www.aurillac.fr/wp-content/uploads/2025/10/stade-aurillacois-2025-26.jpg
END:VEVENT
BEGIN:VEVENT
DTSTART;TZID=Europe/Paris:20260509T180000
DTEND;TZID=Europe/Paris:20260509T200000
DTSTAMP:20260423T214529
CREATED:20251025T052318Z
LAST-MODIFIED:20251025T052318Z
UID:139550-1778349600-1778356800@www.aurillac.fr
SUMMARY:Football - Aurillac FC / Thiers
DESCRIPTION:Match de Régional 1 – Poule A \nLieu : stade de Baradel
URL:https://www.aurillac.fr/agenda/football-aurillac-fc-09052026/
CATEGORIES:Associations,Informations,Sports et loisirs
ATTACH;FMTTYPE=image/png:https://www.aurillac.fr/wp-content/uploads/2025/10/LOGO-afc-01-foot.png
END:VEVENT
BEGIN:VEVENT
DTSTART;TZID=Europe/Paris:20260509T203000
DTEND;TZID=Europe/Paris:20260509T220000
DTSTAMP:20260423T214529
CREATED:20251117T110206Z
LAST-MODIFIED:20251117T110206Z
UID:142086-1778358600-1778364000@www.aurillac.fr
SUMMARY:Handball - Aurillac Handball Club des Volcans / Castanet Ramonville Auzeville Ha
DESCRIPTION:Match de Nationale 3\n \nLieu : Gymnase de Peyrolles
URL:https://www.aurillac.fr/agenda/handball-aurillac-hcv-09052026/
CATEGORIES:Associations,Informations,Sports,Sports et loisirs
ATTACH;FMTTYPE=image/jpeg:https://www.aurillac.fr/wp-content/uploads/2025/10/handball-cv-aurillac-logo.jpg
END:VEVENT
BEGIN:VEVENT
DTSTART;TZID=Europe/Paris:20260516T100000
DTEND;TZID=Europe/Paris:20260516T170000
DTSTAMP:20260423T214529
CREATED:20260421T132945Z
LAST-MODIFIED:20260421T132945Z
UID:158197-1778925600-1778950800@www.aurillac.fr
SUMMARY:Fête de la Nature 2026
DESCRIPTION:Le samedi 16 mai\, la nature s’invite en plein cœur d’Aurillac pour une journée de partage et de découverte !\nQue vous ayez la main verte ou que vous aimiez simplement les animaux\, il y en aura pour tous les goûts. \n✨ Au programme de 10h à 17h : \n🐮 Ferme pédagogique : Rencontrez les animaux avec l’association Au petit bonheur et les Bergers d’Espradel. \n🐴 Balades insolites : Promenades en escargolette avec des ânes. \n🌱 Marché : Exposants de plants et de produits naturels. \n🎤 Apprendre & Comprendre : Conférences et ateliers de sensibilisation. \n🎈 Pour les enfants : Des animations dédiées toute la journée ! \n🎁 Opération Panier Garni : Participez au profit du Printemps des Générations. \n📍 Place d’Aurinques\, Aurillac \n📅 Samedi 16 mai | 10h – 17h \nVenez nombreux pour cultiver la biodiversité et la bonne humeur ! 🐞
URL:https://www.aurillac.fr/agenda/fete-nature-2026/
CATEGORIES:Associations,Informations,loisirs
ATTACH;FMTTYPE=image/jpeg:https://www.aurillac.fr/wp-content/uploads/2026/04/fete-nature-2026.jpg
END:VEVENT
BEGIN:VEVENT
DTSTART;VALUE=DATE:20260522
DTEND;VALUE=DATE:20260524
DTSTAMP:20260423T214529
CREATED:20260219T092503Z
LAST-MODIFIED:20260306T104558Z
UID:151271-1779408000-1779580799@www.aurillac.fr
SUMMARY:Festival "Le Ton est Donné"
DESCRIPTION:Rendez-vous au Jardin des Carmes les 22 et 23 mai pour deux jours de fête en plein air. \n🎸 Au programme côté musique : \n• Vendredi : La Cafetera Roja\, Groupe Local et Nuanua.\n• Samedi : Zarhzä\, L’Enclave et HTB. \n🎨 Mais aussi : Expositions\, théâtre\, ateliers et restauration sur place pour profiter de l’ambiance jungle tout au long de l’événement ! \n💸 C’est ENTIÈREMENT GRATUIT ! \nOrganisé par l’Adapei du Cantal et en partenariat avec la Ville d’Aurillac. 🎶✨
URL:https://www.aurillac.fr/agenda/festival-le-ton-est-donne-2026/
CATEGORIES:Associations,Informations
ATTACH;FMTTYPE=image/jpeg:https://www.aurillac.fr/wp-content/uploads/2026/02/le-ton-est-donne-2026.jpg
END:VEVENT
BEGIN:VEVENT
DTSTART;TZID=Europe/Paris:20260523T150000
DTEND;TZID=Europe/Paris:20260523T200000
DTSTAMP:20260423T214529
CREATED:20260421T092428Z
LAST-MODIFIED:20260421T092446Z
UID:158158-1779548400-1779566400@www.aurillac.fr
SUMMARY:Roller Dance / 10 ans The Pintades Killers
DESCRIPTION:L’association The Pintades Killers souffle ses 10 bougies et vous a préparé une journée mémorable le samedi 23 mai à la Halle de Lescudilliers ! \nAu programme :\nDès 15h30 : Démonstration explosive de Roller Derby pour découvrir ce sport de contact.\nROLLER DANCE : Viens bouger ton body\, avec ou sans roulettes ! Que tu sois un pro du patin ou que tu préfères rester sur tes deux pieds\, le dancefloor est à toi. \n✨ ENTRÉE LIBRE 📍 Halle de Lescudilliers\, Aurillac \n⚠️ Note importante : l’association ne prête pas de matériel de patinage\, pense à prendre tes rollers !
URL:https://www.aurillac.fr/agenda/roller-dance-10ans/
CATEGORIES:Associations,Informations,Sports et loisirs
ATTACH;FMTTYPE=image/jpeg:https://www.aurillac.fr/wp-content/uploads/2026/04/Roller-dance-23052026.jpg
END:VEVENT
BEGIN:VEVENT
DTSTART;TZID=Europe/Paris:20260530T180000
DTEND;TZID=Europe/Paris:20260530T200000
DTSTAMP:20260423T214529
CREATED:20251025T052515Z
LAST-MODIFIED:20251025T052515Z
UID:139553-1780164000-1780171200@www.aurillac.fr
SUMMARY:Football - Aurillac FC / US Sucs et Lignon
DESCRIPTION:Match de Régional 1 – Poule A \nLieu : stade de Baradel
URL:https://www.aurillac.fr/agenda/football-aurillac-fc-30052026/
CATEGORIES:Associations,Informations,Sports et loisirs
ATTACH;FMTTYPE=image/png:https://www.aurillac.fr/wp-content/uploads/2025/10/LOGO-afc-01-foot.png
END:VEVENT
BEGIN:VEVENT
DTSTART;VALUE=DATE:20260612
DTEND;VALUE=DATE:20260614
DTSTAMP:20260423T214529
CREATED:20260127T144221Z
LAST-MODIFIED:20260127T144221Z
UID:148560-1781222400-1781395199@www.aurillac.fr
SUMMARY:13ème édition UTPMA : 12 et 13 juin 2026
DESCRIPTION:INFOS & INSCRIPTIONS \n04 71 49 02 97
URL:https://www.aurillac.fr/agenda/utpma-2026/
CATEGORIES:Associations,Informations,Sports et loisirs
ATTACH;FMTTYPE=image/jpeg:https://www.aurillac.fr/wp-content/uploads/2026/01/utpma-2026.jpg
END:VEVENT
BEGIN:VEVENT
DTSTART;TZID=Europe/Paris:20260627T150000
DTEND;TZID=Europe/Paris:20260627T163000
DTSTAMP:20260423T214529
CREATED:20260224T111306Z
LAST-MODIFIED:20260224T111554Z
UID:151588-1782572400-1782577800@www.aurillac.fr
SUMMARY:Conférence d'Elliott Sadourny "Les villas romaines des cités arverne et vellave" / Ostal del Telh
DESCRIPTION:Le Samedi 27 juin 2026 à 15h\nOstal del Telh\, 1 rue Jean-Moulin\, Aurillac\nParking gratuit\nLigne de bus 3 arrêt Parc de la Fraternité devant l’Ostal del Telh\nEntrée gratuite pour les adhérents\, 5 € pour les non adhérents de l’association \n  \n« Les villas romaines des cités arverne et vellave »\nElliott Sadourny \nAu sein des cités antiques des Arvernes et des Vellaves\, les recherches sur la villa se sont longtemps concentrées sur le territoire proche d’Augustonemetum/Clermont-Ferrand. Le corpus de plus de 600 sites constitué par Elliott Sadourny à l’échelle de la région permet de développer une approche bien plus large de la villa\, considérée comme l’un des marqueurs les plus importants du développement des campagnes du cœur du Massif central à l’époque antique. \n\nRenseignements:\nOstal del Telh\n1 rue Jean moulin\n15000 AURILLAC\nmediacion@ostaldeltelh.org\n07 81 93 29 34
URL:https://www.aurillac.fr/agenda/ostaldeltelh-27062026/
CATEGORIES:Associations,Informations
ATTACH;FMTTYPE=image/jpeg:https://www.aurillac.fr/wp-content/uploads/2026/01/SasonDelTelh2026.jpg
END:VEVENT
BEGIN:VEVENT
DTSTART;VALUE=DATE:20260713
DTEND;VALUE=DATE:20260715
DTSTAMP:20260423T214529
CREATED:20260319T165238Z
LAST-MODIFIED:20260319T165244Z
UID:156788-1783900800-1784073599@www.aurillac.fr
SUMMARY:Le Tour de France fait escale dans le Cantal
DESCRIPTION:Nous avons le plaisir de vous donner rendez-vous les 13 et 14 juillet 2026 pour célébrer le passage de la plus célèbre des courses cyclistes. Deux temps forts marqueront ce séjour : \n\nLundi 13 juillet : Une journée de repos propice à la rencontre et à la détente\, où l’esprit du Tour envahira les routes de notre territoire.\nMardi 14 juillet : Une étape spectaculaire reliant Aurillac au Lioran. Ce parcours de haute volée mettra à l’honneur nos sommets emblématiques\, dont le col du Pertus et le majestueux Pas de Peyrol (Puy Mary).\n\n			\n				\n				\n				\n				\n				\n\n  \n> ZOOM SUR L’ETAPE (site officiel du Tour de France)
URL:https://www.aurillac.fr/agenda/tdf-2026/
CATEGORIES:Associations,centre-ville,Concerts et Spectacles,Informations
ATTACH;FMTTYPE=image/jpeg:https://www.aurillac.fr/wp-content/uploads/2024/07/tdf-11072024-04.jpg
END:VEVENT
BEGIN:VEVENT
DTSTART;VALUE=DATE:20260714
DTEND;VALUE=DATE:20260715
DTSTAMP:20260423T214529
CREATED:20260112T104143Z
LAST-MODIFIED:20260112T104243Z
UID:147237-1783987200-1784073599@www.aurillac.fr
SUMMARY:14 juillet / Fête Nationale / Tour de France
DESCRIPTION:PROGRAMME DE LA JOURNÉE \n\n\n\n\n11h30 : Apéritif Républicain avec l’Harmonie Municipale (parvis de l’Hôtel de Ville)20h : Concert \n22h30 : Grand spectacle pyrotechnique \nPlus d’infos prochainement… \n\n\n			\n				\n				\n				\n				\n				\n\nAurillac et le Cantal s’offrent une étape mythique du tour de France\, celle du 14 juillet\, celle ou l’on espère un coureur français sur la plus haute marche du podium. \n> ZOOM SUR L’ETAPE (site officiel du Tour de France)
URL:https://www.aurillac.fr/agenda/14-juillet-2026/
CATEGORIES:Associations,centre-ville,Concerts et Spectacles,Informations
END:VEVENT
BEGIN:VEVENT
DTSTART;VALUE=DATE:20260716
DTEND;VALUE=DATE:20260720
DTSTAMP:20260423T214529
CREATED:20260112T105251Z
LAST-MODIFIED:20260112T105251Z
UID:147245-1784160000-1784505599@www.aurillac.fr
SUMMARY:Festi Jump 2026
DESCRIPTION:Le Festi Jump\, ce sont des concerts et de la danse rock\, swing\, boogie…  \n\n\n\n\nDu 16 au 19 juillet\, l’évènement musical Festi’Jump animera les terrasses du centre-ville avec une programmation swing\, rock et boogie.\nComme chaque année\, le public est attendu nombreux pour découvrir de nouveaux groupes et danser au son de leurs rythmes endiablés. \n  \n> Page spéciale Festijump (prochainement) \n\n\n 
URL:https://www.aurillac.fr/agenda/festijump-2026/
CATEGORIES:Associations,centre-ville,Culture,Informations,loisirs
END:VEVENT
END:VCALENDAR