BEGIN:VCALENDAR
VERSION:2.0
PRODID:-//Mairie d&#039;Aurillac - ECPv6.15.20//NONSGML v1.0//EN
CALSCALE:GREGORIAN
METHOD:PUBLISH
X-WR-CALNAME:Mairie d&#039;Aurillac
X-ORIGINAL-URL:https://www.aurillac.fr
X-WR-CALDESC:Évènements pour Mairie d&#039;Aurillac
REFRESH-INTERVAL;VALUE=DURATION:PT1H
X-Robots-Tag:noindex
X-PUBLISHED-TTL:PT1H
BEGIN:VTIMEZONE
TZID:Europe/Paris
BEGIN:DAYLIGHT
TZOFFSETFROM:+0100
TZOFFSETTO:+0200
TZNAME:CEST
DTSTART:20250330T010000
END:DAYLIGHT
BEGIN:STANDARD
TZOFFSETFROM:+0200
TZOFFSETTO:+0100
TZNAME:CET
DTSTART:20251026T010000
END:STANDARD
BEGIN:DAYLIGHT
TZOFFSETFROM:+0100
TZOFFSETTO:+0200
TZNAME:CEST
DTSTART:20260329T010000
END:DAYLIGHT
BEGIN:STANDARD
TZOFFSETFROM:+0200
TZOFFSETTO:+0100
TZNAME:CET
DTSTART:20261025T010000
END:STANDARD
BEGIN:DAYLIGHT
TZOFFSETFROM:+0100
TZOFFSETTO:+0200
TZNAME:CEST
DTSTART:20270328T010000
END:DAYLIGHT
BEGIN:STANDARD
TZOFFSETFROM:+0200
TZOFFSETTO:+0100
TZNAME:CET
DTSTART:20271031T010000
END:STANDARD
END:VTIMEZONE
BEGIN:VEVENT
DTSTART;VALUE=DATE:20260213
DTEND;VALUE=DATE:20260514
DTSTAMP:20260423T123422
CREATED:20260130T173725Z
LAST-MODIFIED:20260130T173919Z
UID:148908-1770940800-1778716799@www.aurillac.fr
SUMMARY:EXPOSITION "MOSTRA" / du 13 février au 13 mai 2026
DESCRIPTION:LO VESTIT DEL PAÍS\, L’HABIT DU PAYS \nFonds photographiques Parry (Collections du Musée d’art et d’archéologie d’Aurillac) \n\n			\n				\n				\n				\n				\n				Les portraits réalisés par Léger Parry\, photographe à Aurillac (1856-1921)\, nous plongent dans l’histoire cantalienne\, à une époque où l’habit traduisait des appartenances sociales et culturelles tout en répondant à des nécessités pratiques. \nL’exposicion presenta dels òmes e de las femnas venus poser dans leurs vêtements de tous les jours\, souvent leurs plus belles tenues\, que l’on désigne aujourd’hui sous le nom de costume traditionnel. On y observe les éléments caractéristiques de la tenue auvergnate et leur évolution entre 1880 et 1920\, au gré des disparités locales et des mutations. \nAquel periòde voit également naître une image idéalisée de l’Auvergnat\, donnant lieu à des portraits en costume folklorique (ou régional). Inspirée par la réalité vestimentaire\, la tenue folklorique adaptée pour la fête et la mise en scène a contribué à façonner una memòria locala singulara. L’exposition vous invite à observer et à comprendre ces écarts subtils entre vêtements du quotidien et tenue de représentation. \n			\n				\n				\n				\n				\n				Horaires d’ouverture :\n– du lundi au vendredi9h à 13h / 14h-18h \n			\n				Plus d'infos sur l'expo
URL:https://www.aurillac.fr/agenda/exposition-mostra-022026/
CATEGORIES:Associations,Expositions - Rétrospectives,Informations
ATTACH;FMTTYPE=image/jpeg:https://www.aurillac.fr/wp-content/uploads/2026/01/expo-Lo-vestit-del-pais-2026.jpg
END:VEVENT
BEGIN:VEVENT
DTSTART;TZID=Europe/Paris:20260423T140000
DTEND;TZID=Europe/Paris:20260423T150000
DTSTAMP:20260423T123422
CREATED:20260421T133652Z
LAST-MODIFIED:20260421T133652Z
UID:158201-1776952800-1776956400@www.aurillac.fr
SUMMARY:Rencontre groupe de paroles SEP (Sclérose en plaques) / APF France Handicap
DESCRIPTION:L’École de la SEP organise une session d’information et d’échange pour aider à mieux vivre avec la sclérose en plaques au quotidien. Cette rencontre est ouverte aux patients\, à leur entourage ainsi qu’au grand public. \n📅 Informations Pratiques\n\nDate : Jeudi 23 avril 2026.\nHoraires : De 14h à 15h.\nLieu : Délégation APF France handicap\, 14 rue de la Jordanne\, 15000 Aurillac.\nAccès : Un parking est disponible au 27 avenue des Volontaires.\n\n🎙️\n– Un espace d’écoute et de soutien pour les personnes atteintes de sclérose en plaques (SEP) ainsi que pour leurs proches. \n– Un accueil bienveillant où chacun pourra s’exprimer librement\, partager son expérience et trouver du soutien. \nEncadré par les référentes du groupe (Julie et Danielle) sensibilisés à la SEP\, ce groupe de parole permettra d’aborder de nombreux thèmes : gestion du quotidien\, impact de la maladie sur la vie personnelle et professionnelle\, accompagnement des proches\, ou encore ressources disponibles pour mieux vivre avec la maladie. \nAu-delà des discussions\, ces rencontres sont aussi l’occasion de créer du lien\, de partager des conseils pratiques et de renforcer un sentiment de communauté souvent essentiel dans le parcours de chacun. \nOuvert à tous\, ce groupe de parole se veut accessible\, sans jugement et centré sur l’humain. Une initiative importante pour rappeler que\, face à la sclérose en plaques\, personne ne doit rester seul. \n\n\n📞 Contacts et Inscriptions\nPour obtenir plus de renseignements\, vous pouvez contacter la délégation APF France handicap : \n\nPar téléphone : 04 71 48 20 57 ou 06 43 65 89 57\nPar e-mail : dd.15@apf.asso.fr
URL:https://www.aurillac.fr/agenda/sep-apf-23042026/
CATEGORIES:Associations,centre-ville
ATTACH;FMTTYPE=image/jpeg:https://www.aurillac.fr/wp-content/uploads/2025/10/ECOLE-DE-LA-SEP-sclerose.jpg
END:VEVENT
BEGIN:VEVENT
DTSTART;TZID=Europe/Paris:20260423T160000
DTEND;TZID=Europe/Paris:20260423T190000
DTSTAMP:20260423T123422
CREATED:20251202T154512Z
LAST-MODIFIED:20251202T154512Z
UID:144220-1776960000-1776970800@www.aurillac.fr
SUMMARY:Collecte de sang
DESCRIPTION:L’Établissement français du sang (EFS) du Cantal organise une collecte au Sismographe (Marmiers)\, le jeudi 23 avril de 16h à 19h.\n \nEn France\, 10 000 dons sont nécessaires chaque jour pour soigner et sauver des vies. \n\nlien pour prendre RDV : https://efs.link/yHGiP\n\nSe munir d’une pièce d’identité et ne pas venir à jeun. \nRDV sur dondesang.efs.sante.fr ou au 04 78 65 63 63. \n  \n 
URL:https://www.aurillac.fr/agenda/collecte-de-sang-23042026/
CATEGORIES:Associations,centre-ville,Informations
ATTACH;FMTTYPE=image/jpeg:https://www.aurillac.fr/wp-content/uploads/2025/04/DonDeSang-25.jpg
END:VEVENT
END:VCALENDAR